BEGIN:VCALENDAR
VERSION:2.0
PRODID:-//Marywood  - ECPv6.15.10//NONSGML v1.0//EN
CALSCALE:GREGORIAN
METHOD:PUBLISH
X-WR-CALNAME:Marywood 
X-ORIGINAL-URL:https://marywoodcenter.org
X-WR-CALDESC:Events for Marywood 
REFRESH-INTERVAL;VALUE=DURATION:PT1H
X-Robots-Tag:noindex
X-PUBLISHED-TTL:PT1H
BEGIN:VTIMEZONE
TZID:UTC
BEGIN:STANDARD
TZOFFSETFROM:+0000
TZOFFSETTO:+0000
TZNAME:UTC
DTSTART:20250101T000000
END:STANDARD
END:VTIMEZONE
BEGIN:VEVENT
DTSTART;TZID=UTC:20260510T100000
DTEND;TZID=UTC:20260510T123000
DTSTAMP:20260423T155017
CREATED:20230322T163701Z
LAST-MODIFIED:20260317T150135Z
UID:1019-1778407200-1778416200@marywoodcenter.org
SUMMARY:Mother's Day Brunch
DESCRIPTION:Please join us for the 6th Annual Mother’s Day Brunch at Marywood! A delicious brunch buffet will be served on Sunday May 10th including new favorites like giant stuffed pancakes and classics like eggs benedict. The first seating will be available at 10:00 am and the last will be at 12:30 pm. Adults are priced at $33.00 and children between the ages of four and 11 at $12.00. Call Ansley at 904.436.6591 or email ansleyirwin@marywoodcenter.org to make your reservations!
URL:https://marywoodcenter.org/event/mothers-day-brunch-3/
LOCATION:FL
END:VEVENT
END:VCALENDAR