BEGIN:VCALENDAR
VERSION:2.0
PRODID:-//Marywood  - ECPv6.15.10//NONSGML v1.0//EN
CALSCALE:GREGORIAN
METHOD:PUBLISH
X-WR-CALNAME:Marywood 
X-ORIGINAL-URL:https://marywoodcenter.org
X-WR-CALDESC:Events for Marywood 
REFRESH-INTERVAL;VALUE=DURATION:PT1H
X-Robots-Tag:noindex
X-PUBLISHED-TTL:PT1H
BEGIN:VTIMEZONE
TZID:UTC
BEGIN:STANDARD
TZOFFSETFROM:+0000
TZOFFSETTO:+0000
TZNAME:UTC
DTSTART:20180101T000000
END:STANDARD
END:VTIMEZONE
BEGIN:VEVENT
DTSTART;TZID=UTC:20220508T090000
DTEND;TZID=UTC:20220508T140000
DTSTAMP:20260423T210732
CREATED:20210122T192730Z
LAST-MODIFIED:20220312T151301Z
UID:800-1652000400-1652018400@marywoodcenter.org
SUMMARY:Mother's Day Brunch
DESCRIPTION:Join us in celebrating mom this Mother’s Day\, May 8th 2022\, at Marywood Retreat & Conference Center! We are so excited to offer this special event to our guests again and hope to see you there! Brunch will be served from 9:00 am until 2:00 pm. Adults are admitted at $28.00 each and children at $11.00 each. Please call Ansley at 904.436.6591 for additional details; reservations are required.
URL:https://marywoodcenter.org/event/mothers-day-brunch-2/
END:VEVENT
BEGIN:VEVENT
DTSTART;TZID=UTC:20220417T073000
DTEND;TZID=UTC:20220417T090000
DTSTAMP:20260423T210732
CREATED:20210122T193236Z
LAST-MODIFIED:20220314T133805Z
UID:804-1650180600-1650186000@marywoodcenter.org
SUMMARY:Easter Breakfast
DESCRIPTION:Immediately following the annual sunrise Easter service outside at Marywood Retreat Center on April 17th 2022\, please join us for great food and fellowship in the Kelly Center! Breakfast will be served from 7:00 am until 9:00 am. Adults are admitted for $15.00 each and children for $8.00 each. Reservations are required and seating is limited; please call Ansley at 904.436.6591 for additional details.
URL:https://marywoodcenter.org/event/easter-breakfast-2/
END:VEVENT
BEGIN:VEVENT
DTSTART;TZID=UTC:20220404T190000
DTEND;TZID=UTC:20220404T203000
DTSTAMP:20260423T210732
CREATED:20220228T155809Z
LAST-MODIFIED:20220228T155809Z
UID:926-1649098800-1649104200@marywoodcenter.org
SUMMARY:All You Holy Men & Women Lenten Series
DESCRIPTION:Join us each week during the Lenten season for a special talk given by a different individual within our diocesan community. A variety of subjects will be discussed and great conversation is sure to ensue. A list of dates and topics can be found below as well as on the Spirituality Tab on our website. Seating is limited; please call Marywood at 904.287.2525 for additional information and to register.
URL:https://marywoodcenter.org/event/all-you-holy-men-women-lenten-series-6/
END:VEVENT
BEGIN:VEVENT
DTSTART;TZID=UTC:20220401T150000
DTEND;TZID=UTC:20220401T180000
DTSTAMP:20260423T210732
CREATED:20220228T145115Z
LAST-MODIFIED:20220228T154155Z
UID:905-1648825200-1648836000@marywoodcenter.org
SUMMARY:Lenten Stations of the Cross Walks
DESCRIPTION:Join us each Friday during the Lenten season for a guided walk of the outdoor Stations of the Cross. Each week\, a different deacon within our diocesan community will lead these walks beginning at 3:00 pm. Please call Marywood at 904.287.2525 for additional information and to register.
URL:https://marywoodcenter.org/event/lenten-stations-of-the-cross-walks/
END:VEVENT
BEGIN:VEVENT
DTSTART;TZID=UTC:20220328T190000
DTEND;TZID=UTC:20220328T203000
DTSTAMP:20260423T210732
CREATED:20220228T155736Z
LAST-MODIFIED:20220228T155736Z
UID:924-1648494000-1648499400@marywoodcenter.org
SUMMARY:All You Holy Men & Women Lenten Series
DESCRIPTION:Join us each week during the Lenten season for a special talk given by a different individual within our diocesan community. A variety of subjects will be discussed and great conversation is sure to ensue. A list of dates and topics can be found below as well as on the Spirituality Tab on our website. Seating is limited; please call Marywood at 904.287.2525 for additional information and to register.
URL:https://marywoodcenter.org/event/all-you-holy-men-women-lenten-series-5/
END:VEVENT
BEGIN:VEVENT
DTSTART;TZID=UTC:20220325T150000
DTEND;TZID=UTC:20220325T180000
DTSTAMP:20260423T210732
CREATED:20220228T145303Z
LAST-MODIFIED:20220228T145429Z
UID:907-1648220400-1648231200@marywoodcenter.org
SUMMARY:Lenten Stations of the Cross Walks
DESCRIPTION:Join us each Friday during the Lenten season for a guided walk of the outdoor Stations of the Cross. Each week\, a different deacon within our diocesan community will lead these walks beginning at 3:00 pm. Please call Marywood at 904.287.2525 for additional information and to register.
URL:https://marywoodcenter.org/event/lenten-stations-of-the-cross-walks-2/
END:VEVENT
BEGIN:VEVENT
DTSTART;TZID=UTC:20220321T190000
DTEND;TZID=UTC:20220321T203000
DTSTAMP:20260423T210732
CREATED:20220228T155526Z
LAST-MODIFIED:20220228T155658Z
UID:922-1647889200-1647894600@marywoodcenter.org
SUMMARY:All You Holy Men & Women Lenten Series
DESCRIPTION:Join us each week during the Lenten season for a special talk given by a different individual within our diocesan community. A variety of subjects will be discussed and great conversation is sure to ensue. A list of dates and topics can be found below as well as on the Spirituality Tab on our website. Seating is limited; please call Marywood at 904.287.2525 for additional information and to register.
URL:https://marywoodcenter.org/event/all-you-holy-men-women-lenten-series-4/
END:VEVENT
BEGIN:VEVENT
DTSTART;TZID=UTC:20220318T150000
DTEND;TZID=UTC:20220318T180000
DTSTAMP:20260423T210732
CREATED:20220228T153827Z
LAST-MODIFIED:20220228T153827Z
UID:910-1647615600-1647626400@marywoodcenter.org
SUMMARY:Lenten Stations of the Cross Walks
DESCRIPTION:Join us each Friday during the Lenten season for a guided walk of the outdoor Stations of the Cross. Each week\, a different deacon within our diocesan community will lead these walks beginning at 3:00 pm. Please call Marywood at 904.287.2525 for additional information and to register.
URL:https://marywoodcenter.org/event/lenten-stations-of-the-cross-walks-5/
END:VEVENT
BEGIN:VEVENT
DTSTART;TZID=UTC:20220314T190000
DTEND;TZID=UTC:20220314T203000
DTSTAMP:20260423T210732
CREATED:20220228T155452Z
LAST-MODIFIED:20220228T155910Z
UID:920-1647284400-1647289800@marywoodcenter.org
SUMMARY:All You Holy Men & Women Lenten Series
DESCRIPTION:Join us each week during the Lenten season for a special talk given by a different individual within our diocesan community. A variety of subjects will be discussed and great conversation is sure to ensue. A list of dates and topics can be found below as well as on the Spirituality Tab on our website. Seating is limited; please call Marywood at 904.287.2525 for additional information and to register.
URL:https://marywoodcenter.org/event/all-you-holy-men-women-lenten-series-3/
END:VEVENT
BEGIN:VEVENT
DTSTART;TZID=UTC:20220311T150000
DTEND;TZID=UTC:20220311T180000
DTSTAMP:20260423T210732
CREATED:20220228T153627Z
LAST-MODIFIED:20220228T153627Z
UID:908-1647010800-1647021600@marywoodcenter.org
SUMMARY:Lenten Stations of the Cross Walks
DESCRIPTION:Join us each Friday during the Lenten season for a guided walk of the outdoor Stations of the Cross. Each week\, a different deacon within our diocesan community will lead these walks beginning at 3:00 pm. Please call Marywood at 904.287.2525 for additional information and to register.
URL:https://marywoodcenter.org/event/lenten-stations-of-the-cross-walks-3/
END:VEVENT
BEGIN:VEVENT
DTSTART;TZID=UTC:20220307T190000
DTEND;TZID=UTC:20220307T203000
DTSTAMP:20260423T210732
CREATED:20220228T155415Z
LAST-MODIFIED:20220228T160153Z
UID:918-1646679600-1646685000@marywoodcenter.org
SUMMARY:All You Holy Men & Women Lenten Series
DESCRIPTION:Join us each week during the Lenten season for a special talk given by a different individual within our diocesan community. A variety of subjects will be discussed and great conversation is sure to ensue. A list of dates and topics can be found below as well as on the Spirituality Tab on our website. Seating is limited; please call Marywood at 904.287.2525 for additional information and to register.
URL:https://marywoodcenter.org/event/all-you-holy-men-women-lenten-series-2/
END:VEVENT
BEGIN:VEVENT
DTSTART;TZID=UTC:20220302T190000
DTEND;TZID=UTC:20220302T203000
DTSTAMP:20260423T210732
CREATED:20220228T155125Z
LAST-MODIFIED:20220228T160235Z
UID:915-1646247600-1646253000@marywoodcenter.org
SUMMARY:All You Holy Men & Women Lenten Series
DESCRIPTION:Join us each week during the Lenten season for a special talk given by a different individual within our diocesan community. A variety of subjects will be discussed and great conversation is sure to ensue. A list of dates and topics can be found below as well as on the Spirituality Tab on our website. Seating is limited; please call Marywood at 904.287.2525 for additional information and to register.
URL:https://marywoodcenter.org/event/all-you-holy-men-women-lenten-series/
END:VEVENT
BEGIN:VEVENT
DTSTART;TZID=UTC:20211117T113000
DTEND;TZID=UTC:20211117T133000
DTSTAMP:20260423T210732
CREATED:20210811T003504Z
LAST-MODIFIED:20211026T142633Z
UID:841-1637148600-1637155800@marywoodcenter.org
SUMMARY:Luncheons for Life
DESCRIPTION:Luncheons 4 Life brings together life – affirming organizations and individuals in the pro – life ministry\, with the purpose to open communication channels among participants over a great meal. This monthly event is held on the third Wednesday of each month and there is no cost for the luncheon but you must register to attend as seating is limited. For questions\, please contact May Oliver at moliver@dosafl.com. Please follow the link attached to register: https://luncheons4life.com/jacksonville/
URL:https://marywoodcenter.org/event/luncheons-for-life/
END:VEVENT
BEGIN:VEVENT
DTSTART;TZID=UTC:20210820T160000
DTEND;TZID=UTC:20210822T160000
DTSTAMP:20260423T210732
CREATED:20210811T004557Z
LAST-MODIFIED:20210812T135447Z
UID:844-1629475200-1629648000@marywoodcenter.org
SUMMARY:Rachel's Vineyard
DESCRIPTION:Rachel’s Vineyard is a safe place to renew\, rebuild and redeem hearts broken by abortion. Weekend retreats offer you a supportive\, confidential and non – judgmental environment where women and men can express\, release and reconcile painful post – abortive emotions to begin the process of restoration\, renewal and healing. The weekend is a unique and effective process designed specifically to help you experience the mercy and\ncompassion of God. The weekend will help your soul find a voice\, and transform the pain of the past into hope. Rachel’s Vineyard is a “therapy for the soul” which combines a unique and creative process for psychological and spiritual healing. For additional details or to sign up for this retreat\, please reach out via email to rachelsvineyardjax@yahoo.com or call 904.211.3232.
URL:https://marywoodcenter.org/event/rachels-vineyard/
END:VEVENT
BEGIN:VEVENT
DTSTART;TZID=UTC:20210820T153000
DTEND;TZID=UTC:20210822T153000
DTSTAMP:20260423T210732
CREATED:20210811T005422Z
LAST-MODIFIED:20210811T005608Z
UID:846-1629473400-1629646200@marywoodcenter.org
SUMMARY:Advanced Kairos Training [AKT]
DESCRIPTION:Kairos Prison Ministry International\, Inc. (Kairos) is a Christian faith based ministry which addresses the spiritual needs of incarcerated men\, women\, youth\, and their families. By sharing the love and forgiveness of Jesus Christ\, Kairos hopes to change hearts\, transform lives and impact the world. Kairos sprang from the Cursillo movement and is supported by volunteers from the 4th Day movements such as Cursillo\, National Episcopal Cursillo\, Presbyterian Cursillo\, Lutheran Via de Cristo\, The Upper Room’s Walk To Emmaus\, and independently ecumenical Tres Dias as well as volunteers from independent and non-denominational churches. As a ministry\, Kairos embraces a diverse group of volunteers working together to fulfill Christ’s call to action in Matthew 25:36. \nRegistration for this event must be completed online at the link attached https://www.kairosmessenger.org/aktregister. For additional details or questions\, please reach out to Callie Mills by e-mail at callie325@att.net or via phone at 904.504.3012.
URL:https://marywoodcenter.org/event/advanced-kairos-training-akt/
END:VEVENT
BEGIN:VEVENT
DTSTART;TZID=UTC:20210716T000000
DTEND;TZID=UTC:20210718T000000
DTSTAMP:20260423T210732
CREATED:20210608T143243Z
LAST-MODIFIED:20210622T133311Z
UID:831-1626393600-1626566400@marywoodcenter.org
SUMMARY:Healing Hearts Grief Retreat
DESCRIPTION:Joins us for a weekend of sharing and support with compassionate friends who are on a similar journey. Together we will laugh\, cry\, remember and honor our loved ones. The journey of grief is often difficult and painful. Licensed professional therapists will guide your retreat weekend providing a balance of small group discussion and sharing\, inspiring activities\, bonding with others\, and time for reflection. For more information or to register\, please call Linda Turner\, LMHC at (240) 319.6050 or send an email to lindaturnerms@yahoo.com.
URL:https://marywoodcenter.org/event/healing-hearts-grief-retreat-2/
ATTACH;FMTTYPE=application/pdf:https://marywoodcenter.org/wp-content/uploads/2021/06/retreat-flyer.pdf
END:VEVENT
BEGIN:VEVENT
DTSTART;TZID=UTC:20210415T080000
DTEND;TZID=UTC:20210415T170000
DTSTAMP:20260423T210732
CREATED:20210415T165822Z
LAST-MODIFIED:20210415T165822Z
UID:824-1618473600-1618506000@marywoodcenter.org
SUMMARY:3 - Day Silent Retreat hosted by Fr. John Tetlow
DESCRIPTION:Explore the Ignation Exercises and dive deeper into prayer with Father John Tetlow. This retreat will be hosted at Marywood beginning on Friday\, June 11th 2021 and will conclude on Sunday\, June 13th 2021. Individual commuter or overnight pricing is available as well as couple or double occupancies. For additional details\, please reach out to Kathy Vinski in the San Juan del Rio parish office at 904.287.0519 or via email at k.vinski@sjdrparish.org.
URL:https://marywoodcenter.org/event/3-day-silent-retreat-hosted-by-fr-john-tetlow/
ATTACH;FMTTYPE=image/png:https://marywoodcenter.org/wp-content/uploads/2021/04/Fr.-John-Tetlow-Retreat-June.png
END:VEVENT
BEGIN:VEVENT
DTSTART;VALUE=DATE:20200118
DTEND;VALUE=DATE:20200120
DTSTAMP:20260423T210732
CREATED:20191017T155112Z
LAST-MODIFIED:20191203T144650Z
UID:693-1579305600-1579478399@marywoodcenter.org
SUMMARY:Healing Hearts Grief Retreat
DESCRIPTION:Join retreat facilitators Linda Turner\, LMHC\, LCPC and Meloday Ott\, LCSW for a weekend of sharing and support with compassionate friends who are on a similar journey. Together we will laugh\, cry\, remember and honor our loved ones. For more information\, please visit www.wellbeingstaugustine.com or call Linda Turner\, LMHC\, LCPC at 240.319.6050.
URL:https://marywoodcenter.org/event/healing-hearts-grief-retreat/
ATTACH;FMTTYPE=application/pdf:https://marywoodcenter.org/wp-content/uploads/2019/10/retreat-flyer.pdf
END:VEVENT
BEGIN:VEVENT
DTSTART;TZID=UTC:20191217T173000
DTEND;TZID=UTC:20191217T203000
DTSTAMP:20260423T210732
CREATED:20190909T172206Z
LAST-MODIFIED:20191204T164436Z
UID:685-1576603800-1576614600@marywoodcenter.org
SUMMARY:Mary\, the Mother of the Lord in the Gospel of St Luke (Cycle C)
DESCRIPTION:Please join Bishop Estevez for mass\, dinner and a talk on December 17th 2019. This year’s topic is Mary\, the mother of the Lord in the gospel of St. Luke (Cycle C). Registration will begin at 5:30 pm with mass at 6:00 pm followed by dinner at 6:30 pm. The price per person is $30.00 each and overnight accommodations will be available in the newly renovated Marywood villas at $87.00 per night.
URL:https://marywoodcenter.org/event/mary-the-mother-of-the-lord-in-the-gospel-of-st-luke-cycle-c/
ATTACH;FMTTYPE=application/pdf:https://marywoodcenter.org/wp-content/uploads/2019/09/Mass-Dinner-and-Talk-with-Bishop-Estevez-1.pdf
END:VEVENT
BEGIN:VEVENT
DTSTART;TZID=UTC:20191210T110000
DTEND;TZID=UTC:20191210T133000
DTSTAMP:20260423T210732
CREATED:20191114T155704Z
LAST-MODIFIED:20191114T155918Z
UID:706-1575975600-1575984600@marywoodcenter.org
SUMMARY:Bartram Trail Newcomers' & Women's Club "Harry & Sally" Holiday Luncheon
DESCRIPTION:Please join the Bartram Trail Newcomers’ and Women’s Club (BTNC) for their monthly meeting on December 10th 2019 at 11:00 am in the Kelly Center. Lunch will be served buffet style consisting of salad\, salmon with mango salsa\, pan seared chicken with mushroom madeira\, roasted garlic puree\, steamed broccoli florets as well as miniature confections for dessert. Iced tea and coffee are included in addition to an opportunity to purchase other beverages. Please indicate a vegetarian request on the memo line of your check should you require one. The price of lunch is $30.00 per person and all check can be made payable to BTNC and mailed to Mary Ann Krinski [156 Worthington Parkway\, Saint Johns\, FL 32259]. Payment must be received by December 3rd 2019. \nBTNC is pleased to welcome the return of “Just Friends” also known as “Harry and Sally” to perform at their holiday luncheon. This group is renowned throughout the greater Jacksonville area; they have played at Jaguar games\, the Daytona 500 as well as a private party for Cher. \nFor additional information regarding this luncheon\, please visit the Bartram Trail Newcomers’ Club Facebook page at www.facebook.com/BTNC1. For additional club information and program offerings\, please send an email to 1st vice president Donna Holland at bartramtnc@gmail.com.
URL:https://marywoodcenter.org/event/bartram-trail-newcomers-womens-club-harry-sally-holiday-luncheon/
END:VEVENT
BEGIN:VEVENT
DTSTART;VALUE=DATE:20191108
DTEND;VALUE=DATE:20191109
DTSTAMP:20260423T210732
CREATED:20191017T155752Z
LAST-MODIFIED:20191017T183250Z
UID:696-1573171200-1573257599@marywoodcenter.org
SUMMARY:San Juan Del Rio Reverse Draw Dinner
DESCRIPTION:Join San Juan Del Rio in raising money for the New Family Center on November 8th 2019! For more information or to register\, visit https://one.bidpal.net/reverseraffle2019 or contact Diane O’Meara at diane100@comcast.net. All tickets must be purchased in advance by November 3rd 2019.
URL:https://marywoodcenter.org/event/san-juan-del-rio-reverse-draw-dinner/
ATTACH;FMTTYPE=application/pdf:https://marywoodcenter.org/wp-content/uploads/2019/10/Reverse-Raffle-2019-Full-page-update.pdf
END:VEVENT
BEGIN:VEVENT
DTSTART;TZID=UTC:20190905T080000
DTEND;TZID=UTC:20190906T170000
DTSTAMP:20260423T210732
CREATED:20190905T133444Z
LAST-MODIFIED:20190905T133444Z
UID:680-1567670400-1567789200@marywoodcenter.org
SUMMARY:CANCELLED: Strategic Planning Meeting & Vocations Workshop
DESCRIPTION:Unfortunately\, due to weather conditions sustained by Hurricane Dorian\, the following Diocese of St Augustine events have been cancelled:\nStrategic Planning Meeting [Chancellor’s Office] 09.05.19\nVocations Workshop [Vocations Office] 09.06.19 \nPlease reach out to the Diocese of St Augustine tomorrow 09.06.19 for further information at 904.262.3200. Thank you!
URL:https://marywoodcenter.org/event/cancelled-strategic-planning-meeting-vocations-workshop/
END:VEVENT
BEGIN:VEVENT
DTSTART;TZID=UTC:20190524T160000
DTEND;TZID=UTC:20190526T120000
DTSTAMP:20260423T210732
CREATED:20190102T133122Z
LAST-MODIFIED:20190307T134039Z
UID:636-1558713600-1558872000@marywoodcenter.org
SUMMARY:Wise Woman 2019
DESCRIPTION:Get in touch with your wise woman; find peace with God\, yourself and others during the annual Wise Women Retreat. This retreat offers a time of relaxation\, rest and connection with God to feel His comforting\, healing and encouraging presence. Facilitated conversations with focus on forgiveness and our unique ability to influence other women. During this retreat\, you may expect personal and group meditations\, singing\, one – on – one sharing\, personal reflection by the river and more. Remember\, the Wise Woman lives in each of us.\n*Be sure to bring comfortable clothing!
URL:https://marywoodcenter.org/event/wise-women-2019/
LOCATION:Marywood Retreat and Conference Center\, 235 Marywood Dr\, Fruit Cove\, FL\, 32259\, United States
ATTACH;FMTTYPE=image/png:https://marywoodcenter.org/wp-content/uploads/2019/01/Wise-Woman.png
END:VEVENT
BEGIN:VEVENT
DTSTART;TZID=UTC:20190512T090000
DTEND;TZID=UTC:20190512T140000
DTSTAMP:20260423T210732
CREATED:20190419T171905Z
LAST-MODIFIED:20200303T153149Z
UID:664-1557651600-1557669600@marywoodcenter.org
SUMMARY:Mother's Day Brunch
DESCRIPTION:Join us in celebrating Mom this Mother’s Day at Marywood Retreat & Conference Center! Brunch will be served from 9:00 am until 2:00 pm. Adults are admitted for $28.00+ each and children for $11.00+ each. A full brunch buffet consisting of fluffy scrambled eggs\, local Azar sausage links\, vanilla creme brulee French toast\, oven roasted pork loin carving station\, grilled chicken with crimini mushroom ala rosa sauce and more will be available in addition to a Bloody Mary and mimosa  cash bar. We are so excited to offer this special event to our guests again and hope to see you there! Please call Ansley at 904.436.6591 for additional details; reservations are required.
URL:https://marywoodcenter.org/event/mothers-day-brunch/
ATTACH;FMTTYPE=image/png:https://marywoodcenter.org/wp-content/uploads/2019/04/MDB.png
END:VEVENT
BEGIN:VEVENT
DTSTART;TZID=UTC:20190421T070000
DTEND;TZID=UTC:20190421T090000
DTSTAMP:20260423T210732
CREATED:20190401T132045Z
LAST-MODIFIED:20190401T132045Z
UID:659-1555830000-1555837200@marywoodcenter.org
SUMMARY:Easter Breakfast
DESCRIPTION:Immediately following the annual sunrise Easter service outside at Marywood Retreat Center\, please join us in the newly renovated Kelly Center for great food and fellowship! Breakfast will be served from 7:00 am until 9:00 am. Adults are admitted for $15.00 each and children for $8.00 each. Breakfast items include scrambled eggs\, breakfast potatoes\, applewood smoked bacon\, sausage links\, French toast and more. Reservations are required and seating is limited; please call Ansley at 904.436.6591 for reservations and prepayment. We look forward to seeing you on April 21st 2019!
URL:https://marywoodcenter.org/event/easter-breakfast/
ATTACH;FMTTYPE=image/png:https://marywoodcenter.org/wp-content/uploads/2019/04/Easter-brunch.png
END:VEVENT
BEGIN:VEVENT
DTSTART;TZID=UTC:20190202T000000
DTEND;TZID=UTC:20190203T000000
DTSTAMP:20260423T210732
CREATED:20190113T220318Z
LAST-MODIFIED:20190113T220318Z
UID:641-1549065600-1549152000@marywoodcenter.org
SUMMARY:Healing Retreat for Adult Children of Divorce
DESCRIPTION:‘Recovering Origins’ is a new two – day diocesan retreat for adults who are the children of divorced parents. This retreat will be held the weekend of February 2nd 2019 and February 3rd 2019. Through reflection\, discussion and prayer\, attendees will come to a greater understanding of the wound of divorce and its effects\, advice concerning love and trust of others and an experience of the Catholic faith that will lead to greater self – knowledge and healing. For more information or to register\, please visit www.family.dosafl.com or contact Mike Day at mday@dosafl.com.
URL:https://marywoodcenter.org/event/healing-retreat-for-adult-children-of-divorce/
END:VEVENT
END:VCALENDAR